BEGIN:VCALENDAR
VERSION:2.0
PRODID:-//European Business Institute - ECPv5.0.2.1//NONSGML v1.0//EN
CALSCALE:GREGORIAN
METHOD:PUBLISH
X-WR-CALNAME:European Business Institute
X-ORIGINAL-URL:https://ebi.lu
X-WR-CALDESC:Events for European Business Institute
BEGIN:VTIMEZONE
TZID:Europe/Paris
BEGIN:DAYLIGHT
TZOFFSETFROM:+0100
TZOFFSETTO:+0200
TZNAME:CEST
DTSTART:20190331T010000
END:DAYLIGHT
BEGIN:STANDARD
TZOFFSETFROM:+0200
TZOFFSETTO:+0100
TZNAME:CET
DTSTART:20191027T010000
END:STANDARD
BEGIN:DAYLIGHT
TZOFFSETFROM:+0100
TZOFFSETTO:+0200
TZNAME:CEST
DTSTART:20200329T010000
END:DAYLIGHT
BEGIN:STANDARD
TZOFFSETFROM:+0200
TZOFFSETTO:+0100
TZNAME:CET
DTSTART:20201025T010000
END:STANDARD
END:VTIMEZONE
BEGIN:VEVENT
DTSTART;VALUE=DATE:20191127
DTEND;VALUE=DATE:20200919
DTSTAMP:20200815T055328
CREATED:20191127T180322Z
LAST-MODIFIED:20191203T083716Z
UID:9802-1574812800-1600473599@ebi.lu
SUMMARY:Application Dates
DESCRIPTION:Important Dates – Applications for DBA\nWinter Term 19/20\nApplication Deadline Date/Deposit Payment: December 15 2019 (Start Date: January 13 2020)\nSpring Term 19/20\nApplication Deadline Date/Deposit Payment: February 15 2020 (Start Date: March 23 2020)\nFall Term 20/21\nApplication Deadline Date/Deposit Payment: August 15 2020 (Start Date: September 23-25 2020) \nImportant Dates – Applications for MBA\nWinter Term 19/20\nApplication Deadline Date/Deposit Payment: December 15 2019 (Start Date: January 13 2020)\nSpring Term 19/20\nApplication Deadline Date/Deposit Payment: February 15 2020 (Start Date: March 23 2020)\nFall Term 20/21\nApplication Deadline Date/Deposit Payment: August 15 2020 (Start Date: September 23-25 2020) \nImportant Dates – Applications for EBBA\nFall Term 20/21\nApplication Deadline Date/Deposit Payment: August 15 2020 (Start Date: September 21-27 2020) \n
URL:https://ebi.lu/event/application-deadline-dates-2020-2021/
CATEGORIES:Admissions
ATTACH;FMTTYPE=image/jpeg:https://ebi.lu/wp-content/uploads/2016/06/shutterstock_250822657.jpg
END:VEVENT
END:VCALENDAR